BEGIN:VCALENDAR
VERSION:2.0
METHOD:PUBLISH
PRODID:-//Accessible Web Design//My Calendar//http://www.joedolson.com//v//EN';
BEGIN:VEVENT
UID:4921-415
LOCATION:
SUMMARY:所内整理日（休所日）
DTSTAMP:20251127
ORGANIZER;CN=施設運営課:MAILTO:sisetsu@move-kitakyu.jp
DTSTART:20251127
DTEND:20251128
CATEGORIES:House
URL;VALUE=URI:https://www.kitakyu-move.jp/mc-events/所内整理日（休所日）-32?mc_id=4921
DESCRIPTION:北九州市立男女共同参画センター・ムーブはお休みです。 図書室もお休みです。
X-FUNAMBOL-ALLDAY: 1
X-MICROSOFT-CDO-ALLDAYEVENT: TRUE

END:VEVENT
END:VCALENDAR