BEGIN:VCALENDAR
VERSION:2.0
METHOD:PUBLISH
PRODID:-//Accessible Web Design//My Calendar//http://www.joedolson.com//v//EN';
BEGIN:VEVENT
UID:4927-420
LOCATION:
SUMMARY:図書特別整理日
DTSTAMP:20251021
ORGANIZER;CN=図書・情報室:MAILTO:joho@kitakyu-move.jp
DTSTART:20251021
DTEND:20251025
CATEGORIES:pigeonhole
URL;VALUE=URI:https://www.kitakyu-move.jp/mc-events/図書特別整理日-5?mc_id=4927
DESCRIPTION:図書室はお休みとさせていただいております。
X-FUNAMBOL-ALLDAY: 1
X-MICROSOFT-CDO-ALLDAYEVENT: TRUE

END:VEVENT
END:VCALENDAR