BEGIN:VCALENDAR
VERSION:2.0
METHOD:PUBLISH
PRODID:-//Accessible Web Design//My Calendar//http://www.joedolson.com//v//EN';
BEGIN:VEVENT
UID:4904-403
LOCATION:
SUMMARY:貸室抽選日
DTSTAMP:20250602T103000
ORGANIZER;CN=施設運営課:MAILTO:sisetsu@move-kitakyu.jp
DTSTART:20250602T103000
DTEND:20250602T113000
CATEGORIES:Lottery
URL;VALUE=URI:https://www.kitakyu-move.jp/mc-events/貸室抽選日-22?mc_id=4904
DESCRIPTION:
END:VEVENT
END:VCALENDAR